BEGIN:VCALENDAR
VERSION:2.0
PRODID:spatie/icalendar-generator
DESCRIPTION:Events from Island Girl Cigar Bar
X-WR-CALDESC:Events from Island Girl Cigar Bar
REFRESH-INTERVAL;VALUE=DURATION:PT1440M
X-PUBLISHED-TTL:PT1440M
BEGIN:VTIMEZONE
TZID:America/New_York
BEGIN:DAYLIGHT
DTSTART:20250309T020000Z
TZOFFSETFROM:-0500
TZOFFSETTO:-0400
END:DAYLIGHT
BEGIN:STANDARD
DTSTART:20251102T020000Z
TZOFFSETFROM:-0400
TZOFFSETTO:-0500
END:STANDARD
BEGIN:DAYLIGHT
DTSTART:20260308T020000Z
TZOFFSETFROM:-0500
TZOFFSETTO:-0400
END:DAYLIGHT
END:VTIMEZONE
BEGIN:VTIMEZONE
TZID:UTC
BEGIN:STANDARD
DTSTART:20250723T125644Z
TZOFFSETFROM:+0000
TZOFFSETTO:+0000
END:STANDARD
END:VTIMEZONE
BEGIN:VEVENT
UID:2111-515
DTSTAMP:20260419T125644Z
SUMMARY:JAXDOM rolling event &amp;amp\; Traveller Promo
LOCATION:
ORGANIZER;CN=igcbpvb:MAILTO:islandgirlcigarbar@aol.com
DTSTART;TZID=America/New_York:20251023T200000
DTEND;TZID=America/New_York:20251023T220000
X-ALT-DESC;FMTTYPE=TEXT/HTML:
CATEGORIES:General
URL;VALUE=URI:https://islandgirlcigarbarpvb.com/mc-events/jaxdom-rolling-ev
 ent-traveller-promo/
METHOD:PUBLISH
END:VEVENT
END:VCALENDAR